BEGIN:VCALENDAR
VERSION:2.0
PRODID:-//Engineering Science - ECPv6.15.20//NONSGML v1.0//EN
CALSCALE:GREGORIAN
METHOD:PUBLISH
X-ORIGINAL-URL:https://engsci.utoronto.ca
X-WR-CALDESC:Events for Engineering Science
REFRESH-INTERVAL;VALUE=DURATION:PT1H
X-Robots-Tag:noindex
X-PUBLISHED-TTL:PT1H
BEGIN:VTIMEZONE
TZID:America/Toronto
BEGIN:DAYLIGHT
TZOFFSETFROM:-0500
TZOFFSETTO:-0400
TZNAME:EDT
DTSTART:20230312T070000
END:DAYLIGHT
BEGIN:STANDARD
TZOFFSETFROM:-0400
TZOFFSETTO:-0500
TZNAME:EST
DTSTART:20231105T060000
END:STANDARD
BEGIN:DAYLIGHT
TZOFFSETFROM:-0500
TZOFFSETTO:-0400
TZNAME:EDT
DTSTART:20240310T070000
END:DAYLIGHT
BEGIN:STANDARD
TZOFFSETFROM:-0400
TZOFFSETTO:-0500
TZNAME:EST
DTSTART:20241103T060000
END:STANDARD
BEGIN:DAYLIGHT
TZOFFSETFROM:-0500
TZOFFSETTO:-0400
TZNAME:EDT
DTSTART:20250309T070000
END:DAYLIGHT
BEGIN:STANDARD
TZOFFSETFROM:-0400
TZOFFSETTO:-0500
TZNAME:EST
DTSTART:20251102T060000
END:STANDARD
END:VTIMEZONE
BEGIN:VEVENT
DTSTART;TZID=America/Toronto:20241029T120000
DTEND;TZID=America/Toronto:20241029T130000
DTSTAMP:20260421T082017
CREATED:20241024T171808Z
LAST-MODIFIED:20241024T171808Z
UID:102594-1730203200-1730206800@engsci.utoronto.ca
SUMMARY:Engineering Career Centre Info Session
DESCRIPTION:Discover U of T ‘s top engineering talent!\nU of T Engineering Career Centre’s Professional Experience Year Co-op program (PEY Co-op) is Canada’s leading engineering co-op program\, designed to connect you with top talent from the country’s #1 ranked engineering school. \nEmployers have access to a student talent pool of over 2\,000 annually. These student candidates can bring new and innovative approaches to your team.   \nJoin our information session on October 29 to learn more about the program and connecting with the next generation of engineering talent. \n\n\n\n\n\n\n\nWhy partner with Engineering Career Centre?  \n\nAccess top talent: Build a talent pipeline from Canada’s #1 ranked engineering school. \n\n\nNational & international placements: Our students are ready and willing to travel for placements. \n\n\nDiverse candidate pool: Over 2\,000 students annually seek 12 to 16-week summer positions or 12 to 16-month work placements. \n\n\nTailored recruitment: Our online Career Portal makes posting jobs\, scheduling interviews and managing hires easy. \n\n\nComprehensive support: Our co-op coordinators assist with everything from hiring to on-campus engagement events (info sessions\, resume workshops\, mock interviews). \n\n\nState-of-the-art facilities: Our new employer lounge and 14 high-tech interview rooms enhance your on-campus experience. \nFunding guidance: We help you navigate government funding options to support your hiring efforts. \n\n\n\nQuestions? Email the Engineering Career Centre team!
URL:https://engsci.utoronto.ca/event/engineering-career-centre-info-session/
LOCATION:Online\, link shared upon registration\, Online
CATEGORIES:Alumni Events
ATTACH;FMTTYPE=image/jpeg:https://engsci.utoronto.ca/wp-content/uploads/2024/10/ECC-info-email-header-e1729790148861.jpg
END:VEVENT
END:VCALENDAR