BEGIN:VCALENDAR
VERSION:2.0
PRODID:-//Engineering Science - ECPv6.15.20//NONSGML v1.0//EN
CALSCALE:GREGORIAN
METHOD:PUBLISH
X-ORIGINAL-URL:https://engsci.utoronto.ca
X-WR-CALDESC:Events for Engineering Science
REFRESH-INTERVAL;VALUE=DURATION:PT1H
X-Robots-Tag:noindex
X-PUBLISHED-TTL:PT1H
BEGIN:VTIMEZONE
TZID:America/Toronto
BEGIN:DAYLIGHT
TZOFFSETFROM:-0500
TZOFFSETTO:-0400
TZNAME:EDT
DTSTART:20240310T070000
END:DAYLIGHT
BEGIN:STANDARD
TZOFFSETFROM:-0400
TZOFFSETTO:-0500
TZNAME:EST
DTSTART:20241103T060000
END:STANDARD
BEGIN:DAYLIGHT
TZOFFSETFROM:-0500
TZOFFSETTO:-0400
TZNAME:EDT
DTSTART:20250309T070000
END:DAYLIGHT
BEGIN:STANDARD
TZOFFSETFROM:-0400
TZOFFSETTO:-0500
TZNAME:EST
DTSTART:20251102T060000
END:STANDARD
BEGIN:DAYLIGHT
TZOFFSETFROM:-0500
TZOFFSETTO:-0400
TZNAME:EDT
DTSTART:20260308T070000
END:DAYLIGHT
BEGIN:STANDARD
TZOFFSETFROM:-0400
TZOFFSETTO:-0500
TZNAME:EST
DTSTART:20261101T060000
END:STANDARD
END:VTIMEZONE
BEGIN:VEVENT
DTSTART;TZID=America/Toronto:20251104T190000
DTEND;TZID=America/Toronto:20251104T203000
DTSTAMP:20260421T081125
CREATED:20251016T195531Z
LAST-MODIFIED:20251029T184424Z
UID:103848-1762282800-1762288200@engsci.utoronto.ca
SUMMARY:EngSci Summer Research Info Series:  What is research and how can it help my engineering career?
DESCRIPTION:Years 1 & 2 EngSci students\, are you curious about research?\nJoin Prof. Arthur Chan (Associate Chair\, Research)\, and Don Newton (Curriculum and Research Officer) to learn about engineering research\, what to expect\, and how it can help your engineering career. \nTopics will also include first steps to finding a placement\, in-person/remote projects\, and funding opportunities for research at U of T and abroad. \n\nThis event is part of the EngSci Summer Research Info Series.
URL:https://engsci.utoronto.ca/event/engsci-summer-research-info-series-what-is-research-and-how-can-it-help-my-engineering-career/
LOCATION:Location will be shared with registrants
ATTACH;FMTTYPE=image/jpeg:https://engsci.utoronto.ca/wp-content/uploads/2025/10/2025_11_04_what_is_res_digi_slide-1-e1761763449353.jpg
END:VEVENT
END:VCALENDAR