BEGIN:VCALENDAR
VERSION:2.0
PRODID:-//Engineering Science - ECPv6.15.20//NONSGML v1.0//EN
CALSCALE:GREGORIAN
METHOD:PUBLISH
X-WR-CALNAME:Engineering Science
X-ORIGINAL-URL:https://engsci.utoronto.ca
X-WR-CALDESC:Events for Engineering Science
REFRESH-INTERVAL;VALUE=DURATION:PT1H
X-Robots-Tag:noindex
X-PUBLISHED-TTL:PT1H
BEGIN:VTIMEZONE
TZID:America/Toronto
BEGIN:DAYLIGHT
TZOFFSETFROM:-0500
TZOFFSETTO:-0400
TZNAME:EDT
DTSTART:20240310T070000
END:DAYLIGHT
BEGIN:STANDARD
TZOFFSETFROM:-0400
TZOFFSETTO:-0500
TZNAME:EST
DTSTART:20241103T060000
END:STANDARD
BEGIN:DAYLIGHT
TZOFFSETFROM:-0500
TZOFFSETTO:-0400
TZNAME:EDT
DTSTART:20250309T070000
END:DAYLIGHT
BEGIN:STANDARD
TZOFFSETFROM:-0400
TZOFFSETTO:-0500
TZNAME:EST
DTSTART:20251102T060000
END:STANDARD
BEGIN:DAYLIGHT
TZOFFSETFROM:-0500
TZOFFSETTO:-0400
TZNAME:EDT
DTSTART:20260308T070000
END:DAYLIGHT
BEGIN:STANDARD
TZOFFSETFROM:-0400
TZOFFSETTO:-0500
TZNAME:EST
DTSTART:20261101T060000
END:STANDARD
END:VTIMEZONE
BEGIN:VEVENT
DTSTART;TZID=America/Toronto:20251126T180000
DTEND;TZID=America/Toronto:20251126T190000
DTSTAMP:20260419T162202
CREATED:20250902T163807Z
LAST-MODIFIED:20250902T163807Z
UID:103708-1764180000-1764183600@engsci.utoronto.ca
SUMMARY:Guided Engineering Academic Review Session (EngSci GEARS) - Years 1 - 2025 Fall Term
DESCRIPTION:EngSci GEARS is a great opportunity to connect with upper year EngScis who can answer questions related to your courses\, the Engineering Science program and opportunities within Engineering and the University. GEARS Mentors represent different Majors\, clubs & societies – some have completed PEY or done summer research at U of T or abroad. The sessions are drop-in\, so arrive when you can and stay for as long as you’d like. \nWhat are the benefits of attending EngSci GEARS? \n\nSuccessful upper-year students provide guidance and support as you transition from high school into Engineering Science.\nBuild a sense of community. Get to know your classmates and meet upper-year students.\nDevelop key academic skills. Learn to integrate how to learn with what you need to learn to solve problems.\nAll sessions are drop-in\, no registration required. Unable to attend an entire session? Join EngSci GEARS for part of one.\nJudgement-free zone. No marks are issued and your attendance is not reported to your instructors.\n\nCurrent EngSci students\, log in to the EngSci Info Hub here for location and details.
URL:https://engsci.utoronto.ca/event/gears-year-1-2025-fall-10/
LOCATION:BC
CATEGORIES:GEARS
END:VEVENT
END:VCALENDAR