BEGIN:VCALENDAR
VERSION:2.0
PRODID:-//Engineering Science - ECPv6.15.20//NONSGML v1.0//EN
CALSCALE:GREGORIAN
METHOD:PUBLISH
X-ORIGINAL-URL:https://engsci.utoronto.ca
X-WR-CALDESC:Events for Engineering Science
REFRESH-INTERVAL;VALUE=DURATION:PT1H
X-Robots-Tag:noindex
X-PUBLISHED-TTL:PT1H
BEGIN:VTIMEZONE
TZID:America/Toronto
BEGIN:DAYLIGHT
TZOFFSETFROM:-0500
TZOFFSETTO:-0400
TZNAME:EDT
DTSTART:20250309T070000
END:DAYLIGHT
BEGIN:STANDARD
TZOFFSETFROM:-0400
TZOFFSETTO:-0500
TZNAME:EST
DTSTART:20251102T060000
END:STANDARD
BEGIN:DAYLIGHT
TZOFFSETFROM:-0500
TZOFFSETTO:-0400
TZNAME:EDT
DTSTART:20260308T070000
END:DAYLIGHT
BEGIN:STANDARD
TZOFFSETFROM:-0400
TZOFFSETTO:-0500
TZNAME:EST
DTSTART:20261101T060000
END:STANDARD
BEGIN:DAYLIGHT
TZOFFSETFROM:-0500
TZOFFSETTO:-0400
TZNAME:EDT
DTSTART:20270314T070000
END:DAYLIGHT
BEGIN:STANDARD
TZOFFSETFROM:-0400
TZOFFSETTO:-0500
TZNAME:EST
DTSTART:20271107T060000
END:STANDARD
END:VTIMEZONE
BEGIN:VEVENT
DTSTART;TZID=America/Toronto:20260114T120000
DTEND;TZID=America/Toronto:20260114T130000
DTSTAMP:20260423T183545
CREATED:20251204T164320Z
LAST-MODIFIED:20251204T165006Z
UID:104086-1768392000-1768395600@engsci.utoronto.ca
SUMMARY:Skule(TM) Lunch & Learn:  Building the future? Literally
DESCRIPTION:Around the world\, cities are racing to expand housing and infrastructure while facing the urgent challenge of staying within climate limits. Traditional approaches often fall short when timelines are tight and the stakes are high.  \nJoin Professor Shoshanna Saxe for an eye-opening talk on how short timelines for tackling big problems constrain the tools we can use—and innovative strategies that help us rapidly build a better world. Using climate change as a central example\, Professor Saxe will explore how her research group leverages material stock and flow analysis\, embodied greenhouse gas emissions and cutting-edge approaches to address housing and infrastructure growth without overshooting climate targets.   \nDiscover how bold thinking and data-driven solutions can transform the way we build for a sustainable future.  \n\n\n\n\n\nVirtual: A Zoom link will be sent to all guests who registered. \n\n\n\n\n\nCost: Free \n\n\n\n\n\n\n\nBy registering for the Skule™ Lunch & Learn event\, you could potentially earn Continuing Professional Development (CPD) credits. CPDs are essential for professional engineers and limited license holders to renew their licenses annually through the PEO PEAK Program. If you’re wondering whether this event offering qualifies you for CPD credits\, click here to learn more.
URL:https://engsci.utoronto.ca/event/skuletm-lunch-learn-building-the-future-literally/
LOCATION:Online\, link shared upon registration\, Online
CATEGORIES:Alumni Events
ATTACH;FMTTYPE=image/png:https://engsci.utoronto.ca/wp-content/uploads/2025/12/LL-Jan-26-Banner-image-scaled-1-e1764866484943.png
END:VEVENT
BEGIN:VEVENT
DTSTART;TZID=America/Toronto:20260130T180000
DTEND;TZID=America/Toronto:20260130T223000
DTSTAMP:20260423T183545
CREATED:20251204T150543Z
LAST-MODIFIED:20251208T161839Z
UID:102776-1769796000-1769812200@engsci.utoronto.ca
SUMMARY:Alumni SUDS
DESCRIPTION:Alumni SUDS is BACK! Join us on Friday\, January 30 to raise a pint\, reconnect and celebrate what makes Skule™ unforgettable. \nJoin the Engineering Society & the Engineering Alumni Network at 7 pm for a special celebration marking the retirement of two longtime U of T employees; Sonia De Buglio\, Engineering Director of Alumni Relations\, and Clayton Hillis\, Campus Beverage Services Manager.  \nThis event is proudly organized by students who are excited to welcome alumni back to campus. \nEvent details: \n\nDate: Friday\, January 30\nTime: 6:09 – 10:30 p.m.\nLocation: EngSoc Arena* (Myhal Centre basement)\, 55 St. George Street\n*SUDS has temporarily moved to the Myhal Centre while the Sanford Fleming Pit undergoes renovations.\n\n LGMB is crashing the party between 8-9 p.m.\n Engineering Stores will be open for business\n Alumni who pre-register and arrive between 6:00 p.m.- 8:00 p.m. will receive a free slice of pizza! \n Register now\n Spread the word through your networks! \n\n\nQuestions?\nEmail events@engineering.utoronto.ca\n\n\n 
URL:https://engsci.utoronto.ca/event/alumni-suds-godiva-week-2026/
LOCATION:Myhal Centre\, 55 St George St\, Toronto\, ON\, M5S 0C9\, Canada
CATEGORIES:Alumni Events
ATTACH;FMTTYPE=image/jpeg:https://engsci.utoronto.ca/wp-content/uploads/2025/09/LGMB-front-campus-e1764866748354.jpg
END:VEVENT
END:VCALENDAR