BEGIN:VCALENDAR
VERSION:2.0
PRODID:-//Engineering Science - ECPv6.15.20//NONSGML v1.0//EN
CALSCALE:GREGORIAN
METHOD:PUBLISH
X-WR-CALNAME:Engineering Science
X-ORIGINAL-URL:https://engsci.utoronto.ca
X-WR-CALDESC:Events for Engineering Science
REFRESH-INTERVAL;VALUE=DURATION:PT1H
X-Robots-Tag:noindex
X-PUBLISHED-TTL:PT1H
BEGIN:VTIMEZONE
TZID:America/Toronto
BEGIN:DAYLIGHT
TZOFFSETFROM:-0500
TZOFFSETTO:-0400
TZNAME:EDT
DTSTART:20230312T070000
END:DAYLIGHT
BEGIN:STANDARD
TZOFFSETFROM:-0400
TZOFFSETTO:-0500
TZNAME:EST
DTSTART:20231105T060000
END:STANDARD
BEGIN:DAYLIGHT
TZOFFSETFROM:-0500
TZOFFSETTO:-0400
TZNAME:EDT
DTSTART:20240310T070000
END:DAYLIGHT
BEGIN:STANDARD
TZOFFSETFROM:-0400
TZOFFSETTO:-0500
TZNAME:EST
DTSTART:20241103T060000
END:STANDARD
BEGIN:DAYLIGHT
TZOFFSETFROM:-0500
TZOFFSETTO:-0400
TZNAME:EDT
DTSTART:20250309T070000
END:DAYLIGHT
BEGIN:STANDARD
TZOFFSETFROM:-0400
TZOFFSETTO:-0500
TZNAME:EST
DTSTART:20251102T060000
END:STANDARD
END:VTIMEZONE
BEGIN:VEVENT
DTSTART;TZID=America/Toronto:20240703T090000
DTEND;TZID=America/Toronto:20240703T100000
DTSTAMP:20260419T120157
CREATED:20240626T185417Z
LAST-MODIFIED:20240626T185417Z
UID:102177-1719997200-1720000800@engsci.utoronto.ca
SUMMARY:First-Year Engineering Buddy (E-Buddy) Program:  Applying for your Study Permit
DESCRIPTION:Are you an incoming first-year international U of T Engineering student? The First Year E-Buddy Program is here to support you with your transition to the Faculty and the University!  \nE-Buddies are upper-year engineering peer mentors who will provide support by answering questions about life at U of T Engineering\, sharing their experiences\, and providing information about campus resources. They will also provide informal programming and events to build community amongst international students\, as well as provide support through structured workshops and events.  \nAll first-year international students are eligible to participate in this program.  \nSee the E-Buddy webpage for the full event schedule. \n 
URL:https://engsci.utoronto.ca/event/first-year-e-buddy-2024-2/
LOCATION:Zoom
CATEGORIES:E-Buddy Program
ATTACH;FMTTYPE=image/jpeg:https://engsci.utoronto.ca/wp-content/uploads/2024/06/EBuddy-Icon-2024-400x250-1.jpg
ORGANIZER;CN="First Year Office":MAILTO:ebuddy@engineering.utoronto.ca
END:VEVENT
END:VCALENDAR