BEGIN:VCALENDAR
VERSION:2.0
PRODID:-//Engineering Science - ECPv6.15.20//NONSGML v1.0//EN
CALSCALE:GREGORIAN
METHOD:PUBLISH
X-WR-CALNAME:Engineering Science
X-ORIGINAL-URL:https://engsci.utoronto.ca
X-WR-CALDESC:Events for Engineering Science
REFRESH-INTERVAL;VALUE=DURATION:PT1H
X-Robots-Tag:noindex
X-PUBLISHED-TTL:PT1H
BEGIN:VTIMEZONE
TZID:America/Toronto
BEGIN:DAYLIGHT
TZOFFSETFROM:-0500
TZOFFSETTO:-0400
TZNAME:EDT
DTSTART:20240310T070000
END:DAYLIGHT
BEGIN:STANDARD
TZOFFSETFROM:-0400
TZOFFSETTO:-0500
TZNAME:EST
DTSTART:20241103T060000
END:STANDARD
BEGIN:DAYLIGHT
TZOFFSETFROM:-0500
TZOFFSETTO:-0400
TZNAME:EDT
DTSTART:20250309T070000
END:DAYLIGHT
BEGIN:STANDARD
TZOFFSETFROM:-0400
TZOFFSETTO:-0500
TZNAME:EST
DTSTART:20251102T060000
END:STANDARD
BEGIN:DAYLIGHT
TZOFFSETFROM:-0500
TZOFFSETTO:-0400
TZNAME:EDT
DTSTART:20260308T070000
END:DAYLIGHT
BEGIN:STANDARD
TZOFFSETFROM:-0400
TZOFFSETTO:-0500
TZNAME:EST
DTSTART:20261101T060000
END:STANDARD
END:VTIMEZONE
BEGIN:VEVENT
DTSTART;TZID=America/Toronto:20250116T094500
DTEND;TZID=America/Toronto:20250116T104500
DTSTAMP:20260421T015847
CREATED:20250112T192715Z
LAST-MODIFIED:20250112T193107Z
UID:102220-1737020700-1737024300@engsci.utoronto.ca
SUMMARY:ESEC 2025 Prep Workshop
DESCRIPTION:Get ready for ESEC 2025!\n\n\n\nNever been to a professional conference before?\nShy about interacting with more senior professionals? \nJoin this professional development workshop to build your skills.  You’ll leave feeling more confident\, present\, and prepared for meaningful engagement in a professional setting like the ESEC experience. \nYou will learn: \n\nHow to navigate new interactions with ease\nHow to view “networking” as “relationship-building”\nHow to prepare for a networking situation\nHow to be a good listener\nThe art of asking good professional questions at a conference or 1:1\n\nWe will explore mindsets that support your personal and professional growth\, empowering you to explore diverse career pathways and possibilities. \nThese skills are more important than ever and will help you throughout your career. \n\n\n\nRegister for the Prep Workshop here (utorID login required).  This event is open to Year 1 and 2 EngSci students only.
URL:https://engsci.utoronto.ca/event/esec-2025-prep/
LOCATION:Ontario
CATEGORIES:ESEC
ATTACH;FMTTYPE=image/jpeg:https://engsci.utoronto.ca/wp-content/uploads/2024/07/ESEC2025_prep_workshop_digi_slide-e1736710102574.jpg
END:VEVENT
END:VCALENDAR