BEGIN:VCALENDAR
VERSION:2.0
PRODID:-//Engineering Science - ECPv6.15.20//NONSGML v1.0//EN
CALSCALE:GREGORIAN
METHOD:PUBLISH
X-WR-CALNAME:Engineering Science
X-ORIGINAL-URL:https://engsci.utoronto.ca
X-WR-CALDESC:Events for Engineering Science
REFRESH-INTERVAL;VALUE=DURATION:PT1H
X-Robots-Tag:noindex
X-PUBLISHED-TTL:PT1H
BEGIN:VTIMEZONE
TZID:America/Toronto
BEGIN:DAYLIGHT
TZOFFSETFROM:-0500
TZOFFSETTO:-0400
TZNAME:EDT
DTSTART:20250309T070000
END:DAYLIGHT
BEGIN:STANDARD
TZOFFSETFROM:-0400
TZOFFSETTO:-0500
TZNAME:EST
DTSTART:20251102T060000
END:STANDARD
BEGIN:DAYLIGHT
TZOFFSETFROM:-0500
TZOFFSETTO:-0400
TZNAME:EDT
DTSTART:20260308T070000
END:DAYLIGHT
BEGIN:STANDARD
TZOFFSETFROM:-0400
TZOFFSETTO:-0500
TZNAME:EST
DTSTART:20261101T060000
END:STANDARD
BEGIN:DAYLIGHT
TZOFFSETFROM:-0500
TZOFFSETTO:-0400
TZNAME:EDT
DTSTART:20270314T070000
END:DAYLIGHT
BEGIN:STANDARD
TZOFFSETFROM:-0400
TZOFFSETTO:-0500
TZNAME:EST
DTSTART:20271107T060000
END:STANDARD
END:VTIMEZONE
BEGIN:VEVENT
DTSTART;TZID=America/Toronto:20260122T180000
DTEND;TZID=America/Toronto:20260123T170000
DTSTAMP:20260420T232537
CREATED:20251113T211147Z
LAST-MODIFIED:20260109T222433Z
UID:103995-1769104800-1769187600@engsci.utoronto.ca
SUMMARY:ESEC 2026
DESCRIPTION:Now in its 21st year\, this annual conference aims to broaden our students’ horizons through engagement with world leaders in a wide range of sectors related to our program’s subjects.\n\nEngSci students learn about research\, education and career opportunities for young engineers from innovators and thought leaders in engineering-related fields. \nSpeakers share their expertise and career path through presentations and informal networking events. \nESEC 2026 will be held in person with small group “fireside chats”\, lectures\, and Lunch & Learn. \nFollow ESEC on Instagram to stay up-to-date on events and prep materials. \n\n\nAre you an alum or friend of the program who would like to attend?  Please email Christina Heidorn at engsci@utoronto.ca. \n\nPlease note that this event is for current students in the Engineering Science program only.  We are not able to accommodate students from other programs. \nEngSci students listen to a presentation by retired Canadian astronaut Dr. Robert Thirsk at ESEC 2025. (photo by Year 3 student Kevin Wang)
URL:https://engsci.utoronto.ca/event/esec-2026/
LOCATION:In person\, location will be shared with EngSci students\, U of T St. George campus\, Toronto\, Ontario\, Canada
CATEGORIES:ESEC
ATTACH;FMTTYPE=image/png:https://engsci.utoronto.ca/wp-content/uploads/2025/11/ESEC2026_sticker_transparent-e1763066741351.png
END:VEVENT
END:VCALENDAR