BEGIN:VCALENDAR
VERSION:2.0
PRODID:-//Engineering Science - ECPv6.15.20//NONSGML v1.0//EN
CALSCALE:GREGORIAN
METHOD:PUBLISH
X-ORIGINAL-URL:https://engsci.utoronto.ca
X-WR-CALDESC:Events for Engineering Science
REFRESH-INTERVAL;VALUE=DURATION:PT1H
X-Robots-Tag:noindex
X-PUBLISHED-TTL:PT1H
BEGIN:VTIMEZONE
TZID:America/Toronto
BEGIN:DAYLIGHT
TZOFFSETFROM:-0500
TZOFFSETTO:-0400
TZNAME:EDT
DTSTART:20240310T070000
END:DAYLIGHT
BEGIN:STANDARD
TZOFFSETFROM:-0400
TZOFFSETTO:-0500
TZNAME:EST
DTSTART:20241103T060000
END:STANDARD
BEGIN:DAYLIGHT
TZOFFSETFROM:-0500
TZOFFSETTO:-0400
TZNAME:EDT
DTSTART:20250309T070000
END:DAYLIGHT
BEGIN:STANDARD
TZOFFSETFROM:-0400
TZOFFSETTO:-0500
TZNAME:EST
DTSTART:20251102T060000
END:STANDARD
BEGIN:DAYLIGHT
TZOFFSETFROM:-0500
TZOFFSETTO:-0400
TZNAME:EDT
DTSTART:20260308T070000
END:DAYLIGHT
BEGIN:STANDARD
TZOFFSETFROM:-0400
TZOFFSETTO:-0500
TZNAME:EST
DTSTART:20261101T060000
END:STANDARD
END:VTIMEZONE
BEGIN:VEVENT
DTSTART;TZID=America/Toronto:20250328T120000
DTEND;TZID=America/Toronto:20250328T130000
DTSTAMP:20260421T165946
CREATED:20250210T181842Z
LAST-MODIFIED:20250226T204944Z
UID:103304-1743163200-1743166800@engsci.utoronto.ca
SUMMARY:Disruptors & Dilemmas presents "Building up: Infrastructure for good"
DESCRIPTION:As cities grow at an unprecedented pace\, the need for smart\, sustainable infrastructure has never been greater. But true sustainability isn’t just about better materials or more efficient design—it’s about people. Infrastructure has the power to enable choice\, transform communities and shape lives.   \nWhat if we stopped building for people and started building with them? Imagine infrastructure that doesn’t just connect places but empowers the people who use it. Roads and transit systems that drive economic opportunity. Accessible public spaces that foster connection. Neighborhoods designed to make sustainable choices the easiest and most efficient for everyone.  \nJoin us for a bold conversation with leading experts that will challenge the way we think about infrastructure. We’ll explore how cities can move beyond traditional top-down planning and towards co-creating infrastructure with the communities it serves. We’ll dive into the intersection of sustainability\, accessibility and economic empowerment—because the most transformative infrastructure isn’t just about what we build. It’s about who we build it for.  \nSpeakers\n\n\n\n\n\n\nProfessor Marianne Hatzopoulou\, Chair\, Department of Civil & Mineral Engineering\, Tier 1 Canada Research Chair in Transportation Decarbonization and Air Quality\, Director\, Positive Zero Transport Futures\, Head of the Transportation and Air Quality research group (TRAQ)  \n\n\n\n\n\n\n\n\n\n\n\n\nDavid Boroto (EngSci 1T9)\, Interim CEO\, Engineers Without Borders  \n\n\n\n\n\n\n\n\n\n\n\n\nProfessor John Robinson\, Professor\, Munk School of Global Affairs and Public Policy\, Professor\, School of the Environment\, Presidential Advisor\, U of T Environment\, Climate Change and Sustainability \n\n\n\n\n\n\n\n\n\n\n\n\nSarah Bertollo (HBSc ’05\, MBA ’10)\, Director\, Energy Evolution\, Enwave Energy Corporation \n\n\n\n\n\n\n\n\n\n\n\n\n\n\n\n\nThis is a Disruptors and Dilemmas speaker series event.\nThis event is co-hosted by: University of Toronto Faculty of Applied Science & Engineering\, Faculty of Arts & Science\, Rotman School of Management and School of the Environment  
URL:https://engsci.utoronto.ca/event/d-d-building-up-infrastructure-for-good/
LOCATION:Online\, link shared upon registration\, Online
CATEGORIES:Alumni Events
ATTACH;FMTTYPE=image/png:https://engsci.utoronto.ca/wp-content/uploads/2025/02/DD-Mar-2025_event-page-e1740602969282.png
END:VEVENT
END:VCALENDAR