BEGIN:VCALENDAR
VERSION:2.0
PRODID:-//Engineering Science - ECPv6.15.20//NONSGML v1.0//EN
CALSCALE:GREGORIAN
METHOD:PUBLISH
X-WR-CALNAME:Engineering Science
X-ORIGINAL-URL:https://engsci.utoronto.ca
X-WR-CALDESC:Events for Engineering Science
REFRESH-INTERVAL;VALUE=DURATION:PT1H
X-Robots-Tag:noindex
X-PUBLISHED-TTL:PT1H
BEGIN:VTIMEZONE
TZID:America/Toronto
BEGIN:DAYLIGHT
TZOFFSETFROM:-0500
TZOFFSETTO:-0400
TZNAME:EDT
DTSTART:20230312T070000
END:DAYLIGHT
BEGIN:STANDARD
TZOFFSETFROM:-0400
TZOFFSETTO:-0500
TZNAME:EST
DTSTART:20231105T060000
END:STANDARD
BEGIN:DAYLIGHT
TZOFFSETFROM:-0500
TZOFFSETTO:-0400
TZNAME:EDT
DTSTART:20240310T070000
END:DAYLIGHT
BEGIN:STANDARD
TZOFFSETFROM:-0400
TZOFFSETTO:-0500
TZNAME:EST
DTSTART:20241103T060000
END:STANDARD
BEGIN:DAYLIGHT
TZOFFSETFROM:-0500
TZOFFSETTO:-0400
TZNAME:EDT
DTSTART:20250309T070000
END:DAYLIGHT
BEGIN:STANDARD
TZOFFSETFROM:-0400
TZOFFSETTO:-0500
TZNAME:EST
DTSTART:20251102T060000
END:STANDARD
END:VTIMEZONE
BEGIN:VEVENT
DTSTART;TZID=America/Toronto:20241113T120000
DTEND;TZID=America/Toronto:20241113T130000
DTSTAMP:20260421T030813
CREATED:20241024T171151Z
LAST-MODIFIED:20241024T171226Z
UID:102590-1731499200-1731502800@engsci.utoronto.ca
SUMMARY:Skule(TM) Lunch & Learn:  Metal additive manufacturing: from 3D printing to industrial applications
DESCRIPTION:U of T Engineering alumni\, join us for this monthly series. Learn about exciting research in diverse subjects from U of T Engineering professors.\n\n\n\n\n\n\n\n\nWe spend approximately 90% of our lives indoors\, making the quality of our indoor air crucial to our well-being. The indoor microbiome—comprising bacteria\, fungi and viruses—plays a significant role in our health. Changing climate patterns\, such as wet weather and flooding\, along with materials like carpet and drywall\, are creating mold growth and air quality challenges. These issues are particularly severe in First Nations housing\, where poor ventilation and high moisture levels are prevalent.  \nHow can engineering and microbiology enable us to optimize human health\, aid in pandemic preparedness and benefit our most vulnerable communities?   \nProfessor Sarah Haines’ research explores the unseen world within our homes. She’ll share her research examining building materials and the influence of moisture on indoor mold growth\, the use of portable air cleansers for viral surveillance and current pathways forward for co-developing solutions that improve indoor air quality in northern First Nations communities.   \nJoin us on October 9\, 2024\, at our monthly Skule™ Lunch & Learn. \n\n\n\nVirtual: A Zoom link will be sent to all guests who registered. \n\n\n\n\n\nCost: Free \n\n*NEW INITIATIVE* \n\n\n\n\n\n\nBy registering for the Skule™ Lunch & Learn event\, you could potentially earn Continuing Professional Development (CPD) credits. CPDs are essential for professional engineers and limited license holders to renew their licenses annually through the PEO PEAK Program. If you’re wondering whether this event offering qualifies you for CPD credits\, click here to learn more
URL:https://engsci.utoronto.ca/event/skuletm-lunch-learn-nov24-2024/
LOCATION:Online\, link shared upon registration\, Online
CATEGORIES:Alumni Events
ATTACH;FMTTYPE=image/png:https://engsci.utoronto.ca/wp-content/uploads/2024/10/LL-Nov-24-Banner-image-e1729789935375.png
END:VEVENT
END:VCALENDAR