BEGIN:VCALENDAR
VERSION:2.0
PRODID:-//Engineering Science - ECPv6.15.20//NONSGML v1.0//EN
CALSCALE:GREGORIAN
METHOD:PUBLISH
X-WR-CALNAME:Engineering Science
X-ORIGINAL-URL:https://engsci.utoronto.ca
X-WR-CALDESC:Events for Engineering Science
REFRESH-INTERVAL;VALUE=DURATION:PT1H
X-Robots-Tag:noindex
X-PUBLISHED-TTL:PT1H
BEGIN:VTIMEZONE
TZID:America/Toronto
BEGIN:DAYLIGHT
TZOFFSETFROM:-0500
TZOFFSETTO:-0400
TZNAME:EDT
DTSTART:20240310T070000
END:DAYLIGHT
BEGIN:STANDARD
TZOFFSETFROM:-0400
TZOFFSETTO:-0500
TZNAME:EST
DTSTART:20241103T060000
END:STANDARD
BEGIN:DAYLIGHT
TZOFFSETFROM:-0500
TZOFFSETTO:-0400
TZNAME:EDT
DTSTART:20250309T070000
END:DAYLIGHT
BEGIN:STANDARD
TZOFFSETFROM:-0400
TZOFFSETTO:-0500
TZNAME:EST
DTSTART:20251102T060000
END:STANDARD
BEGIN:DAYLIGHT
TZOFFSETFROM:-0500
TZOFFSETTO:-0400
TZNAME:EDT
DTSTART:20260308T070000
END:DAYLIGHT
BEGIN:STANDARD
TZOFFSETFROM:-0400
TZOFFSETTO:-0500
TZNAME:EST
DTSTART:20261101T060000
END:STANDARD
END:VTIMEZONE
BEGIN:VEVENT
DTSTART;TZID=America/Toronto:20250115T120000
DTEND;TZID=America/Toronto:20250115T130000
DTSTAMP:20260421T015049
CREATED:20241210T205950Z
LAST-MODIFIED:20241218T191127Z
UID:102772-1736942400-1736946000@engsci.utoronto.ca
SUMMARY:Skule(TM) Lunch & Learn:  Preparing self-driving technology for Canadian winters
DESCRIPTION:U of T Engineering alumni\, join us for this monthly series. Learn about exciting research in diverse subjects from U of T Engineering professors.\n\n\n\n\n\n\n\n\n\n\n\nSelf-driving cars are closer than ever to everyday use\, but unpredictable weather is a major roadblock. From degraded senor inputs to machine learning challenges\, these cars struggle to keep up with the ever-changing conditions of the road.   \nImagine if self-driving cars could operate safely anywhere\, no matter the weather.   \nJoin Professor Steven Waslander as he dives into his research aimed at preparing autonomous vehicles for the toughest elements. Discover how his team is advancing perception in adverse weather and developing neural networks that can predict their own limitations. This “self-awareness” is key to smarter\, safer decisions and real-world adaptability.  \nDon’t miss this glimpse into the future of weather-ready autonomous vehicles!  \n\n\n\n\n\n\nVirtual: A Zoom link will be sent to all guests who registered. \n\n\n\n\n\nCost: Free \n\n\n\n\n\n\n\nBy registering for the Skule™ Lunch & Learn event\, you could potentially earn Continuing Professional Development (CPD) credits. CPDs are essential for professional engineers and limited license holders to renew their licenses annually through the PEO PEAK Program. If you’re wondering whether this event offering qualifies you for CPD credits\, click here to learn more.
URL:https://engsci.utoronto.ca/event/skuletm-lunch-learn-jan15-2024/
LOCATION:Online\, link shared upon registration\, Online
CATEGORIES:Alumni Events
ATTACH;FMTTYPE=image/png:https://engsci.utoronto.ca/wp-content/uploads/2024/12/LL-Jan-Banner-e1733859968650.png
END:VEVENT
END:VCALENDAR