BEGIN:VCALENDAR
VERSION:2.0
PRODID:-//Engineering Science - ECPv6.15.20//NONSGML v1.0//EN
CALSCALE:GREGORIAN
METHOD:PUBLISH
X-WR-CALNAME:Engineering Science
X-ORIGINAL-URL:https://engsci.utoronto.ca
X-WR-CALDESC:Events for Engineering Science
REFRESH-INTERVAL;VALUE=DURATION:PT1H
X-Robots-Tag:noindex
X-PUBLISHED-TTL:PT1H
BEGIN:VTIMEZONE
TZID:America/Toronto
BEGIN:DAYLIGHT
TZOFFSETFROM:-0500
TZOFFSETTO:-0400
TZNAME:EDT
DTSTART:20240310T070000
END:DAYLIGHT
BEGIN:STANDARD
TZOFFSETFROM:-0400
TZOFFSETTO:-0500
TZNAME:EST
DTSTART:20241103T060000
END:STANDARD
BEGIN:DAYLIGHT
TZOFFSETFROM:-0500
TZOFFSETTO:-0400
TZNAME:EDT
DTSTART:20250309T070000
END:DAYLIGHT
BEGIN:STANDARD
TZOFFSETFROM:-0400
TZOFFSETTO:-0500
TZNAME:EST
DTSTART:20251102T060000
END:STANDARD
BEGIN:DAYLIGHT
TZOFFSETFROM:-0500
TZOFFSETTO:-0400
TZNAME:EDT
DTSTART:20260308T070000
END:DAYLIGHT
BEGIN:STANDARD
TZOFFSETFROM:-0400
TZOFFSETTO:-0500
TZNAME:EST
DTSTART:20261101T060000
END:STANDARD
END:VTIMEZONE
BEGIN:VEVENT
DTSTART;TZID=America/Toronto:20251004T100000
DTEND;TZID=America/Toronto:20251004T120000
DTSTAMP:20260421T021040
CREATED:20251001T202155Z
LAST-MODIFIED:20251001T202155Z
UID:103794-1759572000-1759579200@engsci.utoronto.ca
SUMMARY:San Francisco\, USA: October Alumni Hike
DESCRIPTION:Attention U of T Engineering alumni in the Bay area!\nFall is fast approaching as we look towards our next hiking event. As Bay Area UofT Engineering Alumni Ambassadors\, Layan and Kevin are excited to invite you to our family friendly hiking event! \n\n Event Details\nDate: Saturday\, October 4\, 2025\nTime: 10:00 a.m.\nDuration: ~1–2 hours\nTrail: Ridge Trail & Saratoga Gap Trail\nMeeting location: Castle Rock State Park Visitor Center/Parking Lot \nEvent is free!  Parking is $10 on site. \nMake sure you bring lots of water to stay hydrated! \nRegister now! \n\n Join our WhatsApp Group!\nStay in the loop\, connect with the group\, and get post-hike photos:\n Contact Kevin/Layan for details on joining the WhatsApp group. \n\nTo join our Bay Area mailing list\, update your contact information with U of T Engineering today.  \n\nQuestions? \nEmail Kevin Lee or Layan Kutob. \n\nDiscover your Global Alumni Ambassadors (GAA) around the world—visit our GAA site for more details!
URL:https://engsci.utoronto.ca/event/san-francisco-usa-october-alumni-hike/
LOCATION:Ridge Trail & Saratoga Gap Trail\, Los Gatos\, CA\, 95033\, United States
CATEGORIES:Alumni Events
ATTACH;FMTTYPE=image/jpeg:https://engsci.utoronto.ca/wp-content/uploads/2025/10/San-Francisco-USA-June-2025-Hike-Layan-Kutob-Kevin-Lee-GAA.jpg
END:VEVENT
BEGIN:VEVENT
DTSTART;TZID=America/Toronto:20251017T120000
DTEND;TZID=America/Toronto:20251017T130000
DTSTAMP:20260421T021040
CREATED:20251001T202910Z
LAST-MODIFIED:20251001T202910Z
UID:103799-1760702400-1760706000@engsci.utoronto.ca
SUMMARY:Skule(TM) Lunch & Learn:  Smart wearables and bio devices for real-time health monitoring
DESCRIPTION:Smart wearables are revolutionizing how we monitor vital signs—bringing heart\, muscle and brain activity tracking into everyday life. Imagine flexible\, breathable mats enhanced with conductive nanomaterials that can detect subtle changes in your body while you work\, relax or sleep. These textile-based sensors are comfortable\, durable and inexpensive\, making them ideal for long-term use in elderly care\, rehabilitation and personal wellness.  \nAs our population ages and healthcare shifts beyond hospital walls\, how can technology help us stay healthier\, longer? Professor Hani Naguib will explore how engineering\, materials science and healthcare innovation are converging to create the next generation of wearable sensors. He’ll dive into the development of new materials\, manufacturing platforms and the exciting progress in electrophysiological monitoring—like ECG\, EMG and EEG—through soft\, smart textiles.  \n\n\n\n\n\nVirtual: A Zoom link will be sent to all guests who registered. \n\n\n\n\n\nCost: Free \n\n\n\n\n\n\n\nBy registering for the Skule™ Lunch & Learn event\, you could potentially earn Continuing Professional Development (CPD) credits. CPDs are essential for professional engineers and limited license holders to renew their licenses annually through the PEO PEAK Program. If you’re wondering whether this event offering qualifies you for CPD credits\, click here to learn more.
URL:https://engsci.utoronto.ca/event/lunch-learn-oct17-2025/
LOCATION:Online\, link shared upon registration\, Online
CATEGORIES:Alumni Events
ATTACH;FMTTYPE=image/png:https://engsci.utoronto.ca/wp-content/uploads/2025/10/LL-Oct-25_Banner-image-e1759350521503.png
END:VEVENT
BEGIN:VEVENT
DTSTART;TZID=America/Toronto:20251026T100000
DTEND;TZID=America/Toronto:20251026T130000
DTSTAMP:20260421T021040
CREATED:20251001T203305Z
LAST-MODIFIED:20251001T203305Z
UID:103802-1761472800-1761483600@engsci.utoronto.ca
SUMMARY:Boston: Alumni Apple Picking Adventure
DESCRIPTION:Attention U of T Engineering alumni in the Boston area!\nYour Boston Global Alumni Ambassador\, Areeba Zakir (IndE 1T6+PEY)\, is excited to invite you to a fun\, casual social event for U of T Engineering alum. \nLet’s gather all U of T alumni for a fun apple picking adventure together!  \nEvent Details:\nDate: October 26\, 2025 \nTime: 10:00 a.m – 1 p.m.\nLocation: Honey Pot Hill Orchards (Stow\, MA) \nRegister now!  \n\nQuestions?  Email Areeba Zakir \n\n\n\n\n\n\n\n\n\n\nDiscover your Global Alumni Ambassadors (GAA) around the world—visit our GAA site for more details!
URL:https://engsci.utoronto.ca/event/boston-alumni-apple-picking-adventure/
LOCATION:Honey Pot Hill Orchards (Stow\, MA)\, 16 Boon Rd.\, Stow\, MA\, 01775\, United States
CATEGORIES:Alumni Events
ATTACH;FMTTYPE=image/jpeg:https://engsci.utoronto.ca/wp-content/uploads/2025/10/Apple-picking-boston.jpeg
END:VEVENT
BEGIN:VEVENT
DTSTART;TZID=America/Toronto:20251112T120000
DTEND;TZID=America/Toronto:20251112T120000
DTSTAMP:20260421T021040
CREATED:20251031T153709Z
LAST-MODIFIED:20251031T153709Z
UID:103903-1762948800-1762948800@engsci.utoronto.ca
SUMMARY:Skule(TM) Lunch & Learn: Reimagining power: The science behind the EV revolution
DESCRIPTION:As the world pushes toward a sustainable future\, electrifying transportation remains central to achieving net zero emissions. In 2024\, more than 17 million electric vehicles were sold globally—more than one in five new cars—marking tremendous progress driven by advances in batteries\, power electronics and charging technology. Yet\, momentum has begun to slow\, with affordability\, charging infrastructure and material supply chains posing hindering widespread adoption.   \nAt the University of Toronto Electric Vehicle Research Centre (UTEV)\, researchers are tackling these challenges through innovations such as Gallium Nitride (GaN) power converters that boost efficiency\, fault-tolerant power management chips for safer onboard systems\, auto-aligned wireless charging\, battery management systems with built-in health diagnostics and reconfigurable fast-charging architectures. Together\, these technologies point to a future where electric mobility is not just feasible\, but universal—transforming how we move\, power and sustain our world.  \n\n\n\n\n\nVirtual: A Zoom link will be sent to all guests who registered. \n\n\n\n\n\nCost: Free \n\n\n\n\n\n\n\nBy registering for the Skule™ Lunch & Learn event\, you could potentially earn Continuing Professional Development (CPD) credits. CPDs are essential for professional engineers and limited license holders to renew their licenses annually through the PEO PEAK Program. If you’re wondering whether this event offering qualifies you for CPD credits\, click here to learn more.
URL:https://engsci.utoronto.ca/event/skuletm-lunch-learn-reimagining-power-the-science-behind-the-ev-revolution/
LOCATION:Online\, link shared upon registration\, Online
CATEGORIES:Alumni Events
ATTACH;FMTTYPE=image/png:https://engsci.utoronto.ca/wp-content/uploads/2025/10/LL-Nov-25_Banner-image-e1761924863911.png
END:VEVENT
END:VCALENDAR