BEGIN:VCALENDAR
VERSION:2.0
PRODID:-//Engineering Science - ECPv6.15.20//NONSGML v1.0//EN
CALSCALE:GREGORIAN
METHOD:PUBLISH
X-WR-CALNAME:Engineering Science
X-ORIGINAL-URL:https://engsci.utoronto.ca
X-WR-CALDESC:Events for Engineering Science
REFRESH-INTERVAL;VALUE=DURATION:PT1H
X-Robots-Tag:noindex
X-PUBLISHED-TTL:PT1H
BEGIN:VTIMEZONE
TZID:America/Toronto
BEGIN:DAYLIGHT
TZOFFSETFROM:-0500
TZOFFSETTO:-0400
TZNAME:EDT
DTSTART:20240310T070000
END:DAYLIGHT
BEGIN:STANDARD
TZOFFSETFROM:-0400
TZOFFSETTO:-0500
TZNAME:EST
DTSTART:20241103T060000
END:STANDARD
BEGIN:DAYLIGHT
TZOFFSETFROM:-0500
TZOFFSETTO:-0400
TZNAME:EDT
DTSTART:20250309T070000
END:DAYLIGHT
BEGIN:STANDARD
TZOFFSETFROM:-0400
TZOFFSETTO:-0500
TZNAME:EST
DTSTART:20251102T060000
END:STANDARD
BEGIN:DAYLIGHT
TZOFFSETFROM:-0500
TZOFFSETTO:-0400
TZNAME:EDT
DTSTART:20260308T070000
END:DAYLIGHT
BEGIN:STANDARD
TZOFFSETFROM:-0400
TZOFFSETTO:-0500
TZNAME:EST
DTSTART:20261101T060000
END:STANDARD
END:VTIMEZONE
BEGIN:VEVENT
DTSTART;TZID=America/Toronto:20251203T120000
DTEND;TZID=America/Toronto:20251203T130000
DTSTAMP:20260421T085943
CREATED:20251113T204126Z
LAST-MODIFIED:20251113T204126Z
UID:103981-1764763200-1764766800@engsci.utoronto.ca
SUMMARY:Skule(TM) Lunch & Learn:
DESCRIPTION:Artificial intelligence (AI) has the potential to transform healthcare; however\, translating promising research into real-world clinical tools is a lengthy and challenging process. \nIn this talk\, Sebastian Goodfellow shares the ongoing journey of developing an AI-powered decision support system to detect and diagnose life-threatening heart arrhythmias in critically ill children. From early research and prototypes to silent trials and regulatory approval\, he explores the path toward clinical adoption within the Canadian healthcare landscape. \n\n\n\n\n\nVirtual: A Zoom link will be sent to all guests who registered. \n\n\n\n\n\nCost: Free \nFind event details and registration here. \n\n\n\n\n\n\n\nBy registering for the Skule™ Lunch & Learn event\, you could potentially earn Continuing Professional Development (CPD) credits. CPDs are essential for professional engineers and limited license holders to renew their licenses annually through the PEO PEAK Program. If you’re wondering whether this event offering qualifies you for CPD credits\, click here to learn more.
URL:https://engsci.utoronto.ca/event/skuletm-lunch-learn-dec-2025/
LOCATION:Online\, link shared upon registration\, Online
CATEGORIES:Alumni Events
ATTACH;FMTTYPE=image/png:https://engsci.utoronto.ca/wp-content/uploads/2025/11/LL-Dec-25-Banner-image-e1763066224207.png
END:VEVENT
END:VCALENDAR