BEGIN:VCALENDAR
VERSION:2.0
PRODID:-//Engineering Science - ECPv6.15.20//NONSGML v1.0//EN
CALSCALE:GREGORIAN
METHOD:PUBLISH
X-WR-CALNAME:Engineering Science
X-ORIGINAL-URL:https://engsci.utoronto.ca
X-WR-CALDESC:Events for Engineering Science
REFRESH-INTERVAL;VALUE=DURATION:PT1H
X-Robots-Tag:noindex
X-PUBLISHED-TTL:PT1H
BEGIN:VTIMEZONE
TZID:America/Toronto
BEGIN:DAYLIGHT
TZOFFSETFROM:-0500
TZOFFSETTO:-0400
TZNAME:EDT
DTSTART:20250309T070000
END:DAYLIGHT
BEGIN:STANDARD
TZOFFSETFROM:-0400
TZOFFSETTO:-0500
TZNAME:EST
DTSTART:20251102T060000
END:STANDARD
BEGIN:DAYLIGHT
TZOFFSETFROM:-0500
TZOFFSETTO:-0400
TZNAME:EDT
DTSTART:20260308T070000
END:DAYLIGHT
BEGIN:STANDARD
TZOFFSETFROM:-0400
TZOFFSETTO:-0500
TZNAME:EST
DTSTART:20261101T060000
END:STANDARD
BEGIN:DAYLIGHT
TZOFFSETFROM:-0500
TZOFFSETTO:-0400
TZNAME:EDT
DTSTART:20270314T070000
END:DAYLIGHT
BEGIN:STANDARD
TZOFFSETFROM:-0400
TZOFFSETTO:-0500
TZNAME:EST
DTSTART:20271107T060000
END:STANDARD
END:VTIMEZONE
BEGIN:VEVENT
DTSTART;TZID=America/Toronto:20260311T200000
DTEND;TZID=America/Toronto:20260311T220000
DTSTAMP:20260422T170333
CREATED:20260219T223650Z
LAST-MODIFIED:20260219T223650Z
UID:104585-1773259200-1773266400@engsci.utoronto.ca
SUMMARY:Skule Nite 2T6 – Alumni shows!
DESCRIPTION:U of T Engineering’s world-famous musical and sketch comedy is back for its 105th show! Join fellow alumni for a tradition filled with non-stop laughs. \nJoin us for alumni shows and your concessions are on us!\nAttend the show on March 11 or March 14 (matinee) and enjoy a free food and beverage item with the show. \n__________ \n Members of Skule Society: Enjoy the show for free with two complimentary tickets to the Skule Nite 2T6 show on March 11th. To request your free tickets\, email kristin.philpot@utoronto.ca by March 4\, 2025  (space is limited).  \n\n\n\n\n\n\n\n\n\nDate + Time:\n– Wednesday\, March 11 @ 8:00 p.m.\n– Saturday\, March 14 @ 2:00 p.m. \nLocation: Hart House Theatre\, 7 Hart House Cir\, Toronto\, ON M5S 3H3\nCost: $25.00 \nSkule Nite 2T6 is organized by the student Skule Nite committee. Tickets to the show are sold directly through Hart House Theatre. \nGet your tickets
URL:https://engsci.utoronto.ca/event/skule-nite-2t6-alumni-shows/
LOCATION:Hart House\, 7 Hart House Circle\, Toronto\, ON\, Canada
CATEGORIES:Alumni Events
ATTACH;FMTTYPE=image/jpeg:https://engsci.utoronto.ca/wp-content/uploads/2026/02/Skule-Nite-2T6-header-e1771540577666.jpg
END:VEVENT
END:VCALENDAR